BEGIN:VCALENDAR
VERSION:2.0
PRODID:-//eventon.com NONSGML v1.0//EN
CALSCALE:GREGORIAN
METHOD:PUBLISH
BEGIN:VEVENT
UID:69e62fd69d2b7
DTSTAMP:20260420T135326Z
DTSTART:20251214T170000Z
DTEND:20251214T235900Z
LOCATION:
SUMMARY:Ante-estreia no Porto: «Vidro Pantera – Estilhaços de Heiner Müller»
DESCRIPTION:Cocriação entre a Alma d&#8217;Arame e Teatro de Ferro No ano
  em que se assinalam 30 anos da morte do dramaturgo alemão (falecido a 30-
 12-1995) decidimos criar um espetáculo-visita-guerra-relâmpago ao univers
 o de Heiner Müller. Fragmentos da sua poesia e do seu teatro vão animar c
 orpos\,  objetos e\,  quem sabe\,  marionetas.[..]\nhttps://almadarame.pt/e
 vents/ante-estreia-vidro-pantera-estilhacos-de-heiner-muller/
URL:https://almadarame.pt/events/ante-estreia-vidro-pantera-estilhacos-de-heiner-muller/
END:VEVENT
END:VCALENDAR