BEGIN:VCALENDAR
VERSION:2.0
PRODID:-//eventon.com NONSGML v1.0//EN
CALSCALE:GREGORIAN
METHOD:PUBLISH
BEGIN:VEVENT
UID:69e885cfab3e3
DTSTAMP:20260422T082447Z
DTSTART:20250905T203000Z
DTEND:20250907T220000Z
LOCATION:Feira da Luz R. Manuel da Fonseca 8 18\,  7050-035 Montemor-o-Novo
SUMMARY:9º Encontro de Marionetas Tradicionais
DESCRIPTION:A Alma d’Arame regressa à Feira da Luz de Montemor-o-Novo pa
 ra a 9ª edição do 𝗘𝗻𝗰𝗼𝗻𝘁𝗿𝗼 𝗱𝗲 𝗠𝗮𝗿
 𝗶𝗼𝗻𝗲𝘁𝗮𝘀 𝗧𝗿𝗮𝗱𝗶𝗰𝗶𝗼𝗻𝗮𝗶
 . Dias 𝟱\,  𝟲 𝗲 𝟳 𝗱𝗲 𝘀𝗲𝘁𝗲𝗺𝗯𝗿𝗼 
 𝗲 𝟮𝟬𝟮𝟱\,  a Feira da Luz / Expomor&#8217;25 celebra uma v
 ez mais o Teatro de Robertos no ambiente as feiras populares. O Teatro de[.
 .]\nhttps://almadarame.pt/events/9o-encontro-de-marionetas-tradicionais/
URL:https://almadarame.pt/events/9o-encontro-de-marionetas-tradicionais/
END:VEVENT
END:VCALENDAR