BEGIN:VCALENDAR
VERSION:2.0
PRODID:-//eventon.com NONSGML v1.0//EN
CALSCALE:GREGORIAN
METHOD:PUBLISH
BEGIN:VEVENT
UID:69e63116f0540
DTSTAMP:20260420T135846Z
DTSTART:20250215T100000Z
DTEND:20250215T235900Z
LOCATION:
SUMMARY:Bonecos do Mercado em Sesimbra
DESCRIPTION:No dia 15 de fevereiro a Alma d&#8217;Arame apresenta o seu esp
 etáculo &#8216;Bonecos do Mercado&#8217; no Mercado Municipal de Quinta do
  Conde\,  em Sesimbra. A partir das 10H à animação no mercado! SINOPSE 
 Bonecos do Mercado” é um espetáculo multidisciplinar inspirado nos tr
 adicionais teatros de marionetas itinerantes que percorriam mercados\, [..]
 \nhttps://almadarame.pt/events/bonecos-do-mercado-em-sesimbra/
URL:https://almadarame.pt/events/bonecos-do-mercado-em-sesimbra/
END:VEVENT
END:VCALENDAR