BEGIN:VCALENDAR
VERSION:2.0
PRODID:-//eventon.com NONSGML v1.0//EN
CALSCALE:GREGORIAN
METHOD:PUBLISH
BEGIN:VEVENT
UID:69e8840ed15f7
DTSTAMP:20260422T081718Z
DTSTART:20250321T103000Z
DTEND:20250321T235900Z
LOCATION:Alma Box Largo Machado dos Santos 15\,  7050-125 Montemor-o-Novo
SUMMARY:Sangue\,  Suor e Picos na Festa do Teatro
DESCRIPTION:No dia 21 de março\,  dia mundial da marioneta\,  revisitaremo
 s o nosso espetáculo &#8216;Sangue\,  Suor e Picos&#8217;\,  cocriação d
 a Alma d&#8217;Arame e Baal 17\,  desta vez em sessão dupla para público 
 escolar. SINOPSE Com texto e desenhos de Miguel Rocha e encenação de Amâ
 ndio Anastácio\,  “Sangue Suor e Picos” é[..]\nhttps://almadarame.pt/
 events/sangue-suor-e-picos-na-festa-do-teatro/
URL:https://almadarame.pt/events/sangue-suor-e-picos-na-festa-do-teatro/
END:VEVENT
END:VCALENDAR