BEGIN:VCALENDAR
VERSION:2.0
PRODID:-//eventon.com NONSGML v1.0//EN
CALSCALE:GREGORIAN
METHOD:PUBLISH
BEGIN:VEVENT
UID:69e885cf9a23d
DTSTAMP:20260422T082447Z
DTSTART:20240528T203000Z
DTEND:20240528T213000Z
LOCATION:Cine-Teatro Curvo Semedo Tv. do Calvário 2\, 
SUMMARY:XVIEIMMN: "Spectrum" de ASTA Teatro
DESCRIPTION:Dia 28 de maio\,  regressará a Montemor-o-Novo a ASTA Teatro c
 om um espetáculo já apresentado na Alma Box\,  mas que agora sobe ao palc
 o do Cineteatro Curvo Semedo. Spectrum propõe uma reflexão sobre o trajet
 o do ser humano por uma mundividência que se lhe apresenta cada vez mais t
 ransferida do[..]\nhttps://almadarame.pt/events/xvieimmn-spectrum-de-asta-t
 eatro/
URL:https://almadarame.pt/events/xvieimmn-spectrum-de-asta-teatro/
END:VEVENT
END:VCALENDAR