BEGIN:VCALENDAR
VERSION:2.0
PRODID:-//eventon.com NONSGML v1.0//EN
CALSCALE:GREGORIAN
METHOD:PUBLISH
BEGIN:VEVENT
UID:69e731a64d8ca
DTSTAMP:20260421T081326Z
DTSTART:20240525T203000Z
DTEND:20240525T213000Z
LOCATION:Cine-Teatro Curvo Semedo Tv. do Calvário 2\, 
SUMMARY:XVIEIMMN: "Transportadores" de Radar 360º
DESCRIPTION:Este espetáculo construído a partir de materiais reutilizados
 \,  aborda questões como o nomadismo comteporâneo e a cultura do excesso 
 e do desperdício. &#8220;São nómadas contemporâneos! Questionam o exces
 so\,  a carência\,  o desperdício\,  o alto consumo\,  a sociedade fabric
 ada\,  a natureza bruta&#8230; a memória individual e a (in)consciência c
 oletiva da sociedade[..]\nhttps://almadarame.pt/events/xvieimmn-transportad
 ores-de-radar-360o/
URL:https://almadarame.pt/events/xvieimmn-transportadores-de-radar-360o/
END:VEVENT
END:VCALENDAR