BEGIN:VCALENDAR
VERSION:2.0
PRODID:-//eventon.com NONSGML v1.0//EN
CALSCALE:GREGORIAN
METHOD:PUBLISH
BEGIN:VEVENT
UID:69e9d5daf1225
DTSTAMP:20260423T081834Z
DTSTART:20240524T093000Z
DTEND:20240524T143000Z
LOCATION:
SUMMARY:XVIEIMMN: "Pocket Show Marionetas" de Catin Nardi
DESCRIPTION:Este ano o Encontro Internacional de Marionetas de Montemor-o-N
 ovo desloca-se à escola! E connosco levamos o marionetista brasileiro Cati
 n Nardi e o seu Teatro Navegante de Marionetas! Com Pocket Show\,  Catin tr
 az a estas crianças uma sequência de números\,  performances e sketches 
 de personagens de diversas culturas do mundo. 𝟭𝟬𝗛𝟯𝟬[..]\nhtt
 ps://almadarame.pt/events/xvieimmn-pocket-show-marionetas-de-catin-nardi/
URL:https://almadarame.pt/events/xvieimmn-pocket-show-marionetas-de-catin-nardi/
END:VEVENT
END:VCALENDAR