BEGIN:VCALENDAR
VERSION:2.0
PRODID:-//eventon.com NONSGML v1.0//EN
CALSCALE:GREGORIAN
METHOD:PUBLISH
BEGIN:VEVENT
UID:69e4eb13c2a1f
DTSTAMP:20260419T144747Z
DTSTART:20240522T210000Z
DTEND:20240522T220000Z
LOCATION:Cine-Teatro Curvo Semedo Tv. do Calvário 2\, 
SUMMARY:XVIEIMMN: "Sangue\,  Suor e Picos" de Alma d'Arame & Baal 17
DESCRIPTION:Dia 22 de maio\,  às 22h estrearemos a cocriação da Alma d&#
 8217;Arame e da Baal 17: &#8220;Sangue\,  Suor e Picos&#8221;. Haverá uma 
 segunda sessão para público geral dia 23\,  às 21h30\,  e uma extra para
  escolas também dia 23\,  mas às 10h30. &#8220;Sangue\,  Suor e Picos&#82
 21; é um espetáculo de[..]\nhttps://almadarame.pt/events/xvieimmn-sangue-
 suor-picos/
URL:https://almadarame.pt/events/xvieimmn-sangue-suor-picos/
END:VEVENT
END:VCALENDAR