BEGIN:VCALENDAR
VERSION:2.0
PRODID:-//eventon.com NONSGML v1.0//EN
CALSCALE:GREGORIAN
METHOD:PUBLISH
BEGIN:VEVENT
UID:69e731c20980f
DTSTAMP:20260421T081354Z
DTSTART:20240327T210000Z
DTEND:20240327T235900Z
LOCATION:Cine-Teatro Curvo Semedo Tv. do Calvário 2\, 
SUMMARY:"Os Protegidos" de teatromosca na Festa do Teatro de Montemor-o-Novo
DESCRIPTION:27 DE MARÇO · 21H00 · CINETEATRO CURVO SEMEDO BILHETES AQUI 
 *inserido na programação da Festa do Teatro de Montemor-o-Novo SINOPSE&#8
 220;Os Protegidos&#8221;\,  texto inédito de Elfriede Jelinek\,  baseado n
 um acontecimento real &#8211; a presença em território austríaco\,  no f
 inal de 2012\,  de cerca de 100 refugiados de várias nacionalidades e[..]\
 nhttps://almadarame.pt/events/os-protegidos-de-teatromosca-na-festa-do-teat
 ro-de-montemor-o-novo/
URL:https://almadarame.pt/events/os-protegidos-de-teatromosca-na-festa-do-teatro-de-montemor-o-novo/
END:VEVENT
END:VCALENDAR