BEGIN:VCALENDAR
VERSION:2.0
PRODID:-//eventon.com NONSGML v1.0//EN
CALSCALE:GREGORIAN
METHOD:PUBLISH
BEGIN:VEVENT
UID:69e897dd7b643
DTSTAMP:20260422T094149Z
DTSTART:20240321T213000Z
DTEND:20240321T235900Z
LOCATION:Cine-Teatro Curvo Semedo Tv. do Calvário 2\, 
SUMMARY:"Ubu Rei" do Teatro Commune na Festa do Teatro de Montemor-o-Novo
DESCRIPTION:21 DE MARÇO · 21H30 · CINETEATRO CURVO SEMEDO BILHETES AQUI 
 *inserido na programação da Festa do Teatro de Montemor-o-Novo SINOPSEUbu
  é um personagem monstruoso\,  despótico\,  corrupto e sem escrúpulos e 
 homem da confiança do Rei. Manipulado pela esposa\,  assassina o Rei Vence
 slau e usurpa o trono polonês. Qualquer semelhança[..]\nhttps://almadaram
 e.pt/events/ubu-rei-do-teatro-commune-na-festa-do-teatro-de-montemor-o-novo
 /
URL:https://almadarame.pt/events/ubu-rei-do-teatro-commune-na-festa-do-teatro-de-montemor-o-novo/
END:VEVENT
END:VCALENDAR