BEGIN:VCALENDAR
VERSION:2.0
PRODID:-//eventon.com NONSGML v1.0//EN
CALSCALE:GREGORIAN
METHOD:PUBLISH
BEGIN:VEVENT
UID:69e9e48437f9c
DTSTAMP:20260423T092108Z
DTSTART:20240314T103000Z
DTEND:20240314T235900Z
LOCATION:Alma Box Largo Machado dos Santos 15\,  7050-125 Montemor-o-Novo
SUMMARY:"Saaraci\,  o Último Gafanhoto do Deserto" do Coletivo Teatral Saaraci na Festa do Teatro
DESCRIPTION:14 DE MARÇO · 10H30 · ALMA BOX SESSÃO DESTINADA A ESCOLAS *
 inserido na programação da Festa do Teatro de Montemor-o-Novo SINOPSEA si
 tuação dramatizada\,  foi inspirada num acontecimento inusitado e real: o
  naufrágio de um enorme de um bando de gafanhotos que pretendiam viajar da
  Mauritânia para qualquer terra de[..]\nhttps://almadarame.pt/events/saara
 ci-o-ultimo-gafanhoto-do-deserto-do-coletivo-teatral-saaraci-na-festa-do-te
 atro/
URL:https://almadarame.pt/events/saaraci-o-ultimo-gafanhoto-do-deserto-do-coletivo-teatral-saaraci-na-festa-do-teatro/
END:VEVENT
END:VCALENDAR