BEGIN:VCALENDAR
VERSION:2.0
PRODID:-//eventon.com NONSGML v1.0//EN
CALSCALE:GREGORIAN
METHOD:PUBLISH
BEGIN:VEVENT
UID:69e501cfb89c5
DTSTAMP:20260419T162447Z
DTSTART:20240305T103000Z
DTEND:20240305T235900Z
LOCATION:Alma Box Largo Machado dos Santos 15\,  7050-125 Montemor-o-Novo
SUMMARY:Quimera de Mairea Buenaventura na Festa do Teatro
DESCRIPTION:5 DE MARÇO · 10H30 · ALMA BOX ENTRADA LIVRE *inserido na pro
 gramação da Festa do Teatro de Montemor-o-Novo SINOPSEQuimera é um jogo 
 entre o teatro de sombras e objetos através da imaginação\,  híbridos m
 utantes entre o analógico e o digital e o handmade vs tecnológico. A hist
 ória centra-se num[..]\nhttps://almadarame.pt/events/quimera-de-mairea-bue
 naventura-na-festa-do-teatro/
URL:https://almadarame.pt/events/quimera-de-mairea-buenaventura-na-festa-do-teatro/
END:VEVENT
END:VCALENDAR