BEGIN:VCALENDAR
VERSION:2.0
PRODID:-//eventon.com NONSGML v1.0//EN
CALSCALE:GREGORIAN
METHOD:PUBLISH
BEGIN:VEVENT
UID:69e884591fb45
DTSTAMP:20260422T081833Z
DTSTART:20220401
DTEND:20220402
LOCATION:Centro Social e Paroquial de Monte do Trigo e Santa Casa da Misericórdia de Portel
SUMMARY:Aqui também há Pássaros
DESCRIPTION:Continuação da ação &#8220;Aqui Também Há Pássaros&#8221
 ;\,  levada a cabo pela Alma d&#8217;Arame\,  no Município de Portel\,  qu
 e pretende promover a inclusão social de idosos institucionalizados\,  com
  o formador Ricardo Falcão. Esta ação decorre no âmbito do ‘Transform
 a – Programa para uma Cultura Inclusiva do Alentejo Central’\,  coorden
 ado pela CIMAC\, [..]\nhttps://almadarame.pt/events/aqui-tambem-ha-passaros
 -2/
URL:https://almadarame.pt/events/aqui-tambem-ha-passaros-2/
END:VEVENT
END:VCALENDAR